BEGIN:VCALENDAR
VERSION:2.0
PRODID:-//Calhoun Hills Golf Complex - ECPv6.15.20//NONSGML v1.0//EN
CALSCALE:GREGORIAN
METHOD:PUBLISH
X-WR-CALNAME:Calhoun Hills Golf Complex
X-ORIGINAL-URL:https://calhounhills.com
X-WR-CALDESC:Events for Calhoun Hills Golf Complex
REFRESH-INTERVAL;VALUE=DURATION:PT1H
X-Robots-Tag:noindex
X-PUBLISHED-TTL:PT1H
BEGIN:VTIMEZONE
TZID:America/Toronto
BEGIN:DAYLIGHT
TZOFFSETFROM:-0500
TZOFFSETTO:-0400
TZNAME:EDT
DTSTART:20240310T070000
END:DAYLIGHT
BEGIN:STANDARD
TZOFFSETFROM:-0400
TZOFFSETTO:-0500
TZNAME:EST
DTSTART:20241103T060000
END:STANDARD
BEGIN:DAYLIGHT
TZOFFSETFROM:-0500
TZOFFSETTO:-0400
TZNAME:EDT
DTSTART:20250309T070000
END:DAYLIGHT
BEGIN:STANDARD
TZOFFSETFROM:-0400
TZOFFSETTO:-0500
TZNAME:EST
DTSTART:20251102T060000
END:STANDARD
BEGIN:DAYLIGHT
TZOFFSETFROM:-0500
TZOFFSETTO:-0400
TZNAME:EDT
DTSTART:20260308T070000
END:DAYLIGHT
BEGIN:STANDARD
TZOFFSETFROM:-0400
TZOFFSETTO:-0500
TZNAME:EST
DTSTART:20261101T060000
END:STANDARD
END:VTIMEZONE
BEGIN:VEVENT
DTSTART;TZID=America/Toronto:20251212T180000
DTEND;TZID=America/Toronto:20251212T210000
DTSTAMP:20260420T195445
CREATED:20251208T142058Z
LAST-MODIFIED:20251208T142058Z
UID:10000011-1765562400-1765573200@calhounhills.com
SUMMARY:Friday Night Dinner
DESCRIPTION:December 12th\n6:00pm – 9:00pm\n\n\nJoin us for our delicious Friday night dinner!\nOnce a month\, we will be hosting a Friday night dinner for you and your family to relish with us at Calhoun Hills or to take home and enjoy.\n\n\nThis month’s delectable dinner will be:\n\nChicken and dumplings with steamed broccoli.\n\nPricing:\nAdult $20\nChildren (12 & under): $12\nIncludes: Entree\, sides\, dessert\, water/tea
URL:https://calhounhills.com/event/friday-night-dinner-3/
END:VEVENT
BEGIN:VEVENT
DTSTART;TZID=America/Toronto:20251126T190000
DTEND;TZID=America/Toronto:20251126T230000
DTSTAMP:20260420T195445
CREATED:20251120T135952Z
LAST-MODIFIED:20251120T135952Z
UID:10000010-1764183600-1764198000@calhounhills.com
SUMMARY:Thanksgiving Bash
DESCRIPTION:The St. Matthews Rotary Club is this year’s proud sponsor of the Calhoun Hills Thanksgiving Bash!\nWednesday November 26th 2025\n7pm – 11pm\n$10 cover – proceeds go to Rotary Club to support the community\n  \nJoin us for an evening of great music and a fantastic food truck. You won’t want to miss this! Gracing us with their final performance is The Gaspumpers! After years of being on stage\, the Gaspumpers bid us adieu with a farewell show.\n  \nGrab your coat\, call your friends\, and make your way over for an evening you won’t forget!
URL:https://calhounhills.com/event/thanksgiving-bash/
END:VEVENT
BEGIN:VEVENT
DTSTART;TZID=America/Toronto:20251114T180000
DTEND;TZID=America/Toronto:20251114T210000
DTSTAMP:20260420T195445
CREATED:20251110T143241Z
LAST-MODIFIED:20251110T143241Z
UID:10000009-1763143200-1763154000@calhounhills.com
SUMMARY:Friday Night Dinner
DESCRIPTION:Join us for our delicious Friday night dinner!\nOnce a month\, we will be hosting a Friday night dinner for you and your family to relish with us at Calhoun Hills or to take home and enjoy.\n\n\nThis month’s delectable dinner will be:\n\nPot roast\, mashed potatoes\, and a biscuit.\n\nPricing:\nAdult $20\nChildren (12 & under): $12\nIncludes: Entree\, sides\, dessert\, water/tea
URL:https://calhounhills.com/event/friday-night-dinner-2/
END:VEVENT
BEGIN:VEVENT
DTSTART;TZID=America/Toronto:20251010T180000
DTEND;TZID=America/Toronto:20251010T210000
DTSTAMP:20260420T195445
CREATED:20251006T133044Z
LAST-MODIFIED:20251006T133944Z
UID:10000008-1760119200-1760130000@calhounhills.com
SUMMARY:Friday Night Dinner
DESCRIPTION:October 10th\n6:00pm – 9:00pm\n\n\nJoin us for our delicious Friday night dinner!\nOnce a month\, we will be hosting a Friday night dinner for you and your family to relish with us at Calhoun Hills or to take home and enjoy.\n\n\nThis month’s delectable dinner will be:\n\nChili\, side salad\, and cornbread.\n\nPricing:\nAdult $20\nChildren (12 & under): $12\nIncludes: Entree\, sides\, dessert\, water/tea
URL:https://calhounhills.com/event/friday-night-dinner/
END:VEVENT
BEGIN:VEVENT
DTSTART;VALUE=DATE:20251002
DTEND;VALUE=DATE:20251003
DTSTAMP:20260420T195445
CREATED:20250821T171749Z
LAST-MODIFIED:20250821T171848Z
UID:10000007-1759363200-1759449599@calhounhills.com
SUMMARY:ORANGBURG SPCA 16TH ANNUAL GOLF TOURNAMENT
DESCRIPTION:Team registration & Breakfast 8:00am \nShotgun Start 9:00am \nPrizes & Lunch immediately following \n4-Man Captain’s Choice Teams| $360 Per Team | Raffles\, Prizes & Hole-In-One Awards
URL:https://calhounhills.com/event/orangburg-spca-16th-annual-golf-tournament/
LOCATION:Calhoun Hills Golf Complex\, 200 Country Club Rd\, Saint Matthews\, SC\, 29135\, United States
END:VEVENT
BEGIN:VEVENT
DTSTART;VALUE=DATE:20250830
DTEND;VALUE=DATE:20250831
DTSTAMP:20260420T195445
CREATED:20250715T134559Z
LAST-MODIFIED:20250715T134559Z
UID:10000005-1756512000-1756598399@calhounhills.com
SUMMARY:Four Track Club Tournament
DESCRIPTION:Will be using Banquet Room. Starting at 8am.
URL:https://calhounhills.com/event/four-track-club-tournament/
END:VEVENT
BEGIN:VEVENT
DTSTART;VALUE=DATE:20250822
DTEND;VALUE=DATE:20250825
DTSTAMP:20260420T195445
CREATED:20250715T133841Z
LAST-MODIFIED:20250715T133841Z
UID:10000003-1755820800-1756079999@calhounhills.com
SUMMARY:Club Championship Tournament
DESCRIPTION:August 22nd\, 23rd\, and 24th.
URL:https://calhounhills.com/event/club-championship-tournament/
END:VEVENT
BEGIN:VEVENT
DTSTART;TZID=America/Toronto:20250815T200000
DTEND;TZID=America/Toronto:20250815T200000
DTSTAMP:20260420T195445
CREATED:20250814T131457Z
LAST-MODIFIED:20250814T131536Z
UID:10000006-1755288000-1755288000@calhounhills.com
SUMMARY:Glow Ball
DESCRIPTION:St Matthews Rotary Club presents a night full of good times and even better golf! Join us for golf\, drinks\, laughs\, and a delicious breakfast afterwards.\n  \nAugust 15th\n8pm\n$150 per team\n21+ only\n  \n  \nGrab your best golf partner and sign up before it’s too late. There’s only a few spots left!\nTo sign up\, reach out to rhall@calhouncounty.sc.gov
URL:https://calhounhills.com/event/glow-ball/
END:VEVENT
BEGIN:VEVENT
DTSTART;TZID=America/Toronto:20250815T180000
DTEND;TZID=America/Toronto:20250815T220000
DTSTAMP:20260420T195445
CREATED:20250715T134423Z
LAST-MODIFIED:20250728T143958Z
UID:10000004-1755280800-1755295200@calhounhills.com
SUMMARY:Glow Ball Tournament
DESCRIPTION:  \n 
URL:https://calhounhills.com/event/glow-ball-tournament/
END:VEVENT
BEGIN:VEVENT
DTSTART;VALUE=DATE:20250802
DTEND;VALUE=DATE:20250804
DTSTAMP:20260420T195445
CREATED:20250715T133140Z
LAST-MODIFIED:20250715T133140Z
UID:10000002-1754092800-1754265599@calhounhills.com
SUMMARY:Big G Calcutta
DESCRIPTION:2 Man Captain Choice. August 2nd-3rd. \nTee off 8am both days. $300 a team. \nAugust 2nd – First round with Flighting and Calcutta at end of round. \nAugust 3rd- Final round\, Payouts 1st\, 2nd\, and 3rd each flight. \nLunch provided both days!
URL:https://calhounhills.com/event/big-g-calcutta/
END:VEVENT
BEGIN:VEVENT
DTSTART;VALUE=DATE:20250725
DTEND;VALUE=DATE:20250726
DTSTAMP:20260420T195445
CREATED:20250715T132250Z
LAST-MODIFIED:20250715T132250Z
UID:10000001-1753401600-1753487999@calhounhills.com
SUMMARY:SC Farm Masters Tournament
DESCRIPTION:Will be using banquet room. Estimate of 88 players.
URL:https://calhounhills.com/event/sc-farm-masters-tournament/
LOCATION:Calhoun Hills Golf Complex\, 200 Country Club Rd\, Saint Matthews\, SC\, 29135\, United States
END:VEVENT
END:VCALENDAR